BEGIN:VCALENDAR
VERSION:2.0
PRODID:-//www.dsalowcountry.org//NONSGML kigkonsult.se iCalcreator 2.30.10/
 /
CALSCALE:GREGORIAN
METHOD:PUBLISH
UID:c05bc822-4c70-4726-8cfa-34b36c3d126c
X-WR-CALDESC:One of our DSAL families\, Carson\, Dan and Mary Watters\, own
 s the retail shop Beachables Coastal Collection\, 1941 Clements Ferry Road
 . In honor of World Down Syndrome Day on Saturday March 21 they are having
  a “Sip & Shop” event. 10% of all sales at the store for the entire month 
 of March will be donated DSAL. Additional lDSAL vendors may be on site as 
 well...stay tuned for more details.
X-WR-RELCALID:ba70e19b4e5891a65f648c20b6f817b8
X-WR-TIMEZONE:America/New_York
BEGIN:VTIMEZONE
TZID:America/New_York
BEGIN:STANDARD
TZNAME:EST
DTSTART:20191103T020000
TZOFFSETFROM:-0400
TZOFFSETTO:-0500
RDATE:20201101T020000
END:STANDARD
BEGIN:DAYLIGHT
TZNAME:EDT
DTSTART:20200308T020000
TZOFFSETFROM:-0500
TZOFFSETTO:-0400
RDATE:20210314T020000
END:DAYLIGHT
END:VTIMEZONE
BEGIN:VEVENT
UID:536148c3-45f9-418b-8627-da2c6079a5e9
DTSTAMP:20260421T095040Z
DESCRIPTION:One of our DSAL families\, Carson\, Dan and Mary Watters\, owns
  the retail shop Beachables Coastal Collection\, 1941 Clements Ferry Road.
  In honor of World Down Syndrome Day on Saturday March 21 they are having 
 a “Sip & Shop” event. 10% of all sales at the store for the entire month o
 f March will be donated DSAL. Additional lDSAL vendors may be on site as w
 ell...stay tuned for more details.
DTSTART;TZID=America/New_York:20200321T100000
DTEND;TZID=America/New_York:20200321T170000
LOCATION:
SUMMARY:Sip and Shop at Beachables
END:VEVENT
END:VCALENDAR
