BEGIN:VCALENDAR
VERSION:2.0
PRODID:-//www.dsalowcountry.org//NONSGML kigkonsult.se iCalcreator 2.30.10/
 /
CALSCALE:GREGORIAN
METHOD:PUBLISH
UID:f35e7b82-df70-4286-b3f4-8ce0717db940
X-WR-CALDESC:There are many ways to celebrate World Down Syndrome Day. Chec
 k back here for any organized events or just wear your crazy socks!
X-WR-RELCALID:64856de8b37e1c38d150dd0cc7112eb7
X-WR-TIMEZONE:America/New_York
BEGIN:VTIMEZONE
TZID:America/New_York
BEGIN:STANDARD
TZNAME:EST
DTSTART:20191103T020000
TZOFFSETFROM:-0400
TZOFFSETTO:-0500
RDATE:20201101T020000
END:STANDARD
BEGIN:DAYLIGHT
TZNAME:EDT
DTSTART:20200308T020000
TZOFFSETFROM:-0500
TZOFFSETTO:-0400
RDATE:20210314T020000
END:DAYLIGHT
END:VTIMEZONE
BEGIN:VEVENT
UID:da78a017-bf3b-43fa-a7c5-112e6346e6b2
DTSTAMP:20260421T103423Z
DESCRIPTION:There are many ways to celebrate World Down Syndrome Day. Check
  back here for any organized events or just wear your crazy socks!
DTSTART;TZID=America/New_York:20200321T000000
DTEND;TZID=America/New_York:20200321T235900
LOCATION:
SUMMARY:World Down Syndrome Day
END:VEVENT
END:VCALENDAR
