BEGIN:VCALENDAR
VERSION:2.0
PRODID:-//www.dsalowcountry.org//NONSGML kigkonsult.se iCalcreator 2.30.10/
 /
CALSCALE:GREGORIAN
METHOD:PUBLISH
UID:1defd55c-003f-4aba-8b99-18ef655f6d6f
X-WR-CALDESC:Join us for a family-friendly Zumba® Fundraiser for the Down S
 yndrome Diagnosis Network!  \n\nFounded in 2013\, the mission of the Down 
 Syndrome Diagnosis Network (DSDN) is to connect\, support\, and provide ac
 curate information for families with a Down syndrome diagnosis. Our vision
  is to ensure families have unbiased and factually accurate diagnosis expe
 riences\, every time\, through which families quickly know they’re not alo
 ne.\n\nDoors open at 1:30.  Dancing beings at 2!  \n\nAll are welcome - in
 dividuals\, families\, and kids!  Join us for an afternoon of dancing!  Th
 e event will be on the field near the playground\, weather permitting.  In
  the event of inclement weather we will move inside to the basketball gym.
   \n\nTickets available at the link below!  $10 per individual\, $15 per f
 amily!\nhttps://www.zumba.com/en-US/event/view/zumbathon-charity-event-for
 -dsdn
X-WR-RELCALID:bd178731cb0b20181c92f8f58deedf54
X-WR-TIMEZONE:America/New_York
BEGIN:VTIMEZONE
TZID:America/New_York
BEGIN:STANDARD
TZNAME:EST
DTSTART:20191103T020000
TZOFFSETFROM:-0400
TZOFFSETTO:-0500
RDATE:20201101T020000
END:STANDARD
BEGIN:DAYLIGHT
TZNAME:EDT
DTSTART:20200308T020000
TZOFFSETFROM:-0500
TZOFFSETTO:-0400
RDATE:20210314T020000
END:DAYLIGHT
END:VTIMEZONE
BEGIN:VEVENT
UID:92890dd3-ab06-4051-9ce4-7b6e16243122
DTSTAMP:20260421T101905Z
DESCRIPTION:Join us for a family-friendly Zumba® Fundraiser for the Down Sy
 ndrome Diagnosis Network!  \n\nFounded in 2013\, the mission of the Down S
 yndrome Diagnosis Network (DSDN) is to connect\, support\, and provide acc
 urate information for families with a Down syndrome diagnosis. Our vision 
 is to ensure families have unbiased and factually accurate diagnosis exper
 iences\, every time\, through which families quickly know they’re not alon
 e.\n\nDoors open at 1:30.  Dancing beings at 2!  \n\nAll are welcome - ind
 ividuals\, families\, and kids!  Join us for an afternoon of dancing!  The
  event will be on the field near the playground\, weather permitting.  In 
 the event of inclement weather we will move inside to the basketball gym. 
  \n\nTickets available at the link below!  $10 per individual\, $15 per fa
 mily!\nhttps://www.zumba.com/en-US/event/view/zumbathon-charity-event-for-
 dsdn
DTSTART;TZID=America/New_York:20200328T133000
DTEND;TZID=America/New_York:20200328T153000
LOCATION:Bees Landing Recreation\, Ctr Charleston\, South Carolina 29414
SUMMARY:Zumbathon® for the Down Syndrome Diagnosis Network
END:VEVENT
END:VCALENDAR
