BEGIN:VCALENDAR
VERSION:2.0
PRODID:-//www.dsalowcountry.org//NONSGML kigkonsult.se iCalcreator 2.30.10/
 /
CALSCALE:GREGORIAN
METHOD:PUBLISH
UID:b1118dbf-cfdd-42f8-a9db-4adc71593fb6
X-WR-CALDESC:This has been postponed. Stay tuned for rescheduling. \n\nI am
  excited to announce that we will be having another Little Gym play date a
 t the Little Gym in Summerville (http://www.thelittlegym.com/SummervilleSC
 ) on Sunday\, March 22nd (the day after World Down Syndrome Day). We will 
 have one session for kids under age 3 from 1:00-1:45 pm and one session fo
 r kids age 3-8 from 1:45-2:30 pm. If littles want to hang around a while l
 onger or if the older kids want to come a few minutes early\, it is okay f
 or us to overlap somewhat.\n\nI am hoping to see you guys there. This is f
 ree for our families\, but space is limited. For gym staffing purposes\, i
 t would be very helpful if you would RSVP if you are going to attend. We c
 an include siblings if they are in same age range as that session and if w
 e are not at party capacity with DSAL kiddos. If childcare for other sibli
 ngs will be an issue\, perhaps we could help each other out with that by h
 aving those in the same area combine babysitting efforts? There is a waiti
 ng area at the gym where older kids are welcome to hang out with a book\, 
 ipad\, etc. with large windows through which you can see them. We do want 
 to have a safe space for our little ones to enjoy the gym without getting 
 trampled by older kids.\n\nExpecting parents are encouraged to join us too
 !\n\nAgain\, let me know if you'll be joining us. Looking forward to seein
 g you there!!\n
X-WR-RELCALID:b87b18108ef59aa1bb45c6ca74a74655
X-WR-TIMEZONE:America/New_York
BEGIN:VTIMEZONE
TZID:America/New_York
BEGIN:STANDARD
TZNAME:EST
DTSTART:20191103T020000
TZOFFSETFROM:-0400
TZOFFSETTO:-0500
RDATE:20201101T020000
END:STANDARD
BEGIN:DAYLIGHT
TZNAME:EDT
DTSTART:20200308T020000
TZOFFSETFROM:-0500
TZOFFSETTO:-0400
RDATE:20210314T020000
END:DAYLIGHT
END:VTIMEZONE
BEGIN:VEVENT
UID:9edf912c-22ae-4269-b69e-0dae6b5b26d3
DTSTAMP:20260421T102847Z
DESCRIPTION:This has been postponed. Stay tuned for rescheduling. \n\nI am 
 excited to announce that we will be having another Little Gym play date at
  the Little Gym in Summerville (http://www.thelittlegym.com/SummervilleSC)
  on Sunday\, March 22nd (the day after World Down Syndrome Day). We will h
 ave one session for kids under age 3 from 1:00-1:45 pm and one session for
  kids age 3-8 from 1:45-2:30 pm. If littles want to hang around a while lo
 nger or if the older kids want to come a few minutes early\, it is okay fo
 r us to overlap somewhat.\n\nI am hoping to see you guys there. This is fr
 ee for our families\, but space is limited. For gym staffing purposes\, it
  would be very helpful if you would RSVP if you are going to attend. We ca
 n include siblings if they are in same age range as that session and if we
  are not at party capacity with DSAL kiddos. If childcare for other siblin
 gs will be an issue\, perhaps we could help each other out with that by ha
 ving those in the same area combine babysitting efforts? There is a waitin
 g area at the gym where older kids are welcome to hang out with a book\, i
 pad\, etc. with large windows through which you can see them. We do want t
 o have a safe space for our little ones to enjoy the gym without getting t
 rampled by older kids.\n\nExpecting parents are encouraged to join us too!
 \n\nAgain\, let me know if you'll be joining us. Looking forward to seeing
  you there!!\n
DTSTART;TZID=America/New_York:20200329T130000
DTEND;TZID=America/New_York:20200329T143000
LOCATION:Little Gym Summerville: 1201 Old Trolley Road\, Suite C Summervill
 e\, SC
SUMMARY:Postponed - Little Gym Play Date
END:VEVENT
END:VCALENDAR
